BEGIN:VCALENDAR
VERSION:2.0
PRODID:-//Sophicity/Tribune/Franklin Springs, GA
BEGIN:VEVENT
DTSTAMP:20260421T144133Z
UID:d5fc5e88-d01f-48d3-8f5f-94e1a4d291c2-4009
DTSTART:20241104T203000Z
DTEND:20241104T210000Z
CLASS:PUBLIC
SUMMARY:Municipal Court at 3:30 PM
END:VEVENT
END:VCALENDAR
